Package: biodbNci Version: 1.13.1 Command: /Library/Frameworks/R.framework/Resources/bin/R CMD check --test-dir=longtests --no-stop-on-test-error --no-codoc --no-examples --no-manual --ignore-vignettes --check-subdirs=no biodbNci_1.13.1.tar.gz StartedAt: 2025-10-25 16:01:21 -0400 (Sat, 25 Oct 2025) EndedAt: 2025-10-25 16:02:20 -0400 (Sat, 25 Oct 2025) EllapsedTime: 59.3 seconds RetCode: 1 Status: ERROR CheckDir: biodbNci.Rcheck Warnings: NA