Package: MungeSumstats Version: 1.17.5 Command: /Library/Frameworks/R.framework/Resources/bin/R CMD check --test-dir=longtests --no-stop-on-test-error --no-codoc --no-examples --no-manual --ignore-vignettes --check-subdirs=no MungeSumstats_1.17.5.tar.gz StartedAt: 2025-10-18 16:09:53 -0400 (Sat, 18 Oct 2025) EndedAt: 2025-10-18 16:28:07 -0400 (Sat, 18 Oct 2025) EllapsedTime: 1094.6 seconds RetCode: 0 Status: OK CheckDir: MungeSumstats.Rcheck Warnings: 0