Package: EpiMix Version: 1.11.1 Command: F:\biocbuild\bbs-3.22-bioc\R\bin\R.exe CMD check --no-multiarch --test-dir=longtests --no-stop-on-test-error --no-codoc --no-examples --no-manual --ignore-vignettes --check-subdirs=no EpiMix_1.11.1.tar.gz StartedAt: 2025-08-09 16:06:42 -0400 (Sat, 09 Aug 2025) EndedAt: 2025-08-09 16:10:33 -0400 (Sat, 09 Aug 2025) EllapsedTime: 231.1 seconds RetCode: 0 Status: OK CheckDir: EpiMix.Rcheck Warnings: 0