Package: DOtools Version: 0.99.11 Maintainer: Mariano Ruz Jurado MaintainerEmail: ruzjurado at med.uni-frankfurt.de git_url: https://git.bioconductor.org/packages/DOtools git_branch: devel git_last_commit: 95e75ee git_last_commit_date: 2025-10-09 05:46:33 -0400 (Thu, 09 Oct 2025)