]ks8\ߺZRov;v╜)$ H1 lݚ*cIFi|uk2{Q]oGwޠ+>jW;wsg>O_|$"<;uY2Vy!x<~fGY]p84|q?gΛKʼnv:N:ӛCsn83$&asv]yz{/ʹ#Eg $^v%Tsuvsȯc^$qNܽyLor7hkwO"\\r]x/CJ9Hͯ{W]yHgE[g#"1KNO7/Ҁ+Gg쬒gLdI3GJ$v-ttl/n?4[Q:+N/w7m{~:s9TN9MN#Gzt|y!ɲK΂Cl ru™-yR?ggg/v_LşeS. 2>pB_(}x'3 JWGcє'_W#Gtss*ʿT)NW.X({b:$s4| -V4 G+QWW?'ZJrrw_=+[`GsC E a*^l~Mذc1Q'9tζꬒvt\g>\Ug!s"֠Mz^w7z7ż74뺽O39xj/Y2'|0k^k'~ÑAf!=!bXy.$vzQm./W_+[C^Bl'݊A)k¥ [j3qF!m!# {dE㵀oYȳj!O&Mr+~z|6_o@Rafs FOrmW<{7ڞ=5M[\ْ%d#s`㎪?󏤍&ZW|MI^p˞6J)q& |sz esHMm\k%DB_V!9;?n +>W~EzȦBZnȫ$aCVr:o6zM/aTϞI&{8빊<r'ٿ/`r)tR?=dm}r SBΓѓ" -! VOSԳGBJߧ&zkgL8*HaI*䕾CN_d)jCKyNgCH̀ \j"UH <#M.3If!V=<5=\m2TBΆS!ݞR0LBD$ =XRҷ/RdWd[s_UP}H?< q&vO:O5RxziFzC NaK3R"KC|X7 y>ۧa/5-详V:xb @U[L7BD}Hl Ys_ ͬx uɪDA,[\!)yT: 1\T0#aArPEWB&粫; T=u IbB&>몚h9 S <- ڊM/L V/!TƈZ^u _Z,6pncQWΞ7D=˥^tH@s%s6) AWE}|H@eTҔ-Y.VQ',j#Z/9Ikco٨@AmH^ D]H/kjq5j|ڝrh*xŖ+?ޕy®䡻W',XҼw7L/Ɛ Y4>tg Bj ,uz%ᜀ eJ稺,KDi|? ##K+0kq[*]\ۘSv ɜLsК< R Շ3\ق> ,`G<lLtjl#"\cQWVO47O``/YP ~Їj1On0sM#ي.Z!Q('_Md^Otqhs9P%א  s' z)MːoT.]Gjꤔ2yx\ 2?Aud2\=ƁwgXBR5]-M8)<ĿOp~&;rnyԹYY-^|&jgZnTy!5U2 U!h(-,0X46&[WV 0m[Υ{T=k T?DStG[ި@S{6j_f[]{ȜF2Q <+9/BE:cE^<93!r-/x-,gs` JaCƏbFPmõW0!*2@qnbO_sxŽ|. y'sW㎥3- Y zTKO46I KRn%,& taQ{|ԖQXKiܔBjjA& |$u9'%!Mʟ^gx ,Js[Ktjչ٬q/ȉ7pUU+RZ3ȡnΓˁ;RTbn~Xd5ԜA? tG!u_=~,_^bf/C.Nٲᝮ6=w_͸=w̧˵49H\`6jZR",@,nzgj,#*z,`/돿!kpκaëNY~]߮u^%CDI8^/2xo8ߓozSY_씵{aҳ8(?p>ؗյNw"BHx#}E<|7*U'}yD֙^9;Xq&9+4ΊTn9\ [J&|d?Zd4zʧRiAmo/X/)/O%'4ӫ cр]M-z9ڕR(zތ E%|4V.X7cUڌeL mƲ&|Ҵ03|t&#i|Ҭࣱ"WBP6KI"aK1ؐ5!N'X:!H !B4B(-DK#X6]fUڌedf _Ee[3ƤYTeF8l*5#F͢13LhjH4\ GcҌ ތFgY ?XÛm oƪ5p ?=jeÛ MMmecSgXƐ4fj"6 O2"lOFU sQtӦP:|m61TEAux3VE4pI*Ǝ(ЎaZmE!wt[\ÍR&L4וEyӦ<eI1iA`FٞՔxs9| sТD>hԲfqPBsu~ݦb?a!=Ui&Gz(AlQL-h"`EX+` ӂ#jÀpeC׀6)#fZ iA`Cd4c@^bE栢lޜi8ژY+M3¾a-/0N  f,10[ E3PP AfzG3yF:yBY|;fK_ϧgl͜#  eM+AO1s`N ^X]u' ' P$mShDS֚ɰjU3 efX vc5t,:-f0Fc@T + ; sЂ!wІ  Ђœ~ Qr0, C̤U`4  o͂#ĩpذ `Aa73=+ Ђ!joƊ9=%&O1i} LʹAAHEҦ_c4{jhX~Sx,ЪɒE`z"39DpJ3~Zd3mdJfR-o[O\;%-VjFfniA1UI;1ckkwL K`7fɰf33NF|iPCX^5T6]z3yO.Uni$PuBӆڌ%FFl2᧌T%m:K%*Qf2e fX30&͆a#fc:Σ L,]GLq2E&զ4#"+fEp҇BCl;ib,Mņ63 Fqz&"K=Lx0i6$(<1&u9fJ̾͜{ Nhd}0$ٟ4@4rV`'͊3Q3,Fނ[cXƊۂ3W-BF -@9m"`s6ܷQaCSyuь԰v>+*^ Oڂ+Dً~i/M(TJ [zg4О{O1ck#P}6A|VCCfd\u ddX32z潙cE3>a+yXrC'6cY mƒ]͘V@6L1q%7cfrLӌoTf3< NlLD.frjhXX7[ތ6ƤYbO(4S#oH 7V$1o7c&FooH_[ao_ċ9d_۔JxW'ERD’wr&D`3a˷ğOWw3W.Y\9.Gӟ>m/m>(C9'W6}}/?8bäEqrL7˃Bpˣ5w ߔdw3叟0-R׿nIMt7c'73vRu2CT?L1]NY]֍:%H;OO'M6Ynrm)t\|i16N1D/Y=ks8ٿKN#+f*[N75ǢHJD$>b;ڟ\7@P$EQ/Ilp&DF 6U*5{''Df@VYx{L\s43455 r PIʼnO~Iz&1 {E<aq|@Ft:/$BtUz5a߽"xbz'݋λS X'[oz%ysvAE׹:>)eWKz1}}Bhl1Ipy{Bn-U^_?):rKCvf:1˱v8=xF趂QlNsHj ^ǁ.f6?_[QJږ՚r~W^Bc^{8jxIiJDJ gc)F~T+LȠg;T5cڛ<˜@`c>0K'=2VAT345rќ`? lG AE<cbKh>#mr8u@zU?XǁTS4 ؗkպ\l|.F9zܡ}]5 oϯ9U36M:G\ٶfNW:JfaG7{%pb+[s\W"N&oTOÚ2h};@̮W Et U7ȉDaz-,~p{Ǫ׋50++q2\g6C^J]cφU(MNˇVPW%j*"5ެ7+}>=2jh' ^/+ckrNCǩC$Uy^y>10$e a1K B? x^S)=LLت Hr" 7?i2{mUoF]uYGhdtmH$'RO=txWGs:5i-@m,ߚfK}\!/΍oJ oj4liI%?9O.7k$rUsu{c-+ r~jewޏ?];B (gM9?$ƭfL,pfɞ9$ hPBk &|j m?^h*KeBl) S(ڴsh@ު(aZjзO1U;dD+?h!r0̾bŽ4`2ũه1Qv!:*Bwo P _APɍFnZWv&cM\}HǶJhՓq26AMaD%yRXWқ4j *`,&kɥN#YN͕ X] мZǰ d93ţ0M sl=:}ț`Z |tLք P-uzInėyA^^pwh؈;2-{|a#Ƿ 3>Fӓo$ <[s]W(@%W!*lEEtL~{0Eg% ᲎l|Fk)k5c"mAQ-16pD =!:=vG/{0+uPL̇0= c kN\VK'ӁY>=ʙ ,Eq's#|z6p|߱a)O!6J;忭EHbR9ai=1MZi]6ieF\00"$5Q|AcGL u.f" UYgQ2hz; :S)x>Kߡ~XRMۇ= Oe0a_JcqCg2qnY,> a]v 4Cy¦z(g+ hO:5LAG#*LCLucjغakw/1%=L%G]*;;%CsbH0V}y NfP0Y/q0w՛R(=O/.KTgι0rX Jw H =k&ZC$X0_63\?+O1W'v Wx\29Y uZh7p) \ڮO=CVH~SҠgeW0+ ;|`dr F9/XsZ"VpGl8@ݎė)"=@J~e_s:0F(O$I{aY'ƞZzhqDi,Q^ޞ> 9̆g@L{T 4?kx~4:* Q4*\pET¼207n W<+^‘Ìku4K aj:T71YsT1̈́AG a4yXxt$H~Wb5lXԟ1$hM;'b)42`ԎoU6mmyBwD3) Sa؏gR F}۳sr[Wyw^wE)?FkUІi:º`: Q?63KjQ=}-NiNu/0}:4T yuiLz>Ey1F+g`LT 9 Z0Ư3P(ލ < gmrtvϷS{\Urr,JR@3+dʼfrH='&u+6XtL,Ky>[TUjY5Zq(ޝWO<SsE|P]?jx?n 3zX.36늿A5qC0>:w!&3$-ŠC-AR7Wj֥ e('`~Gg 07fP.iC"r05{|-ٳ=]MRy0o֫cpXSk&M= hI0ꁷ ,ck hkOZO|1dj $m:TM@JÙ|O ]2$ : :ܦɡZ؈`Y4p.(})>p~'ݵE 2rZ .moVf Im+omKjEQ.![՚ahl_Ŵ ڒļ40mcA 8(LvU- b+ |\ԍA0"@T_ rܒ֤b6P}`MfpEJ|T_lRGplQ E 5U^akDF_iu!T]='&kLq͈CQ}2Xmb$:O561 X|¶tlb(@hp=$ӚFpȋw]ؖPQNk'G71+^0Dh &́~+;e0;>aѪ$26 d1 ԓż{~[3;@,!-Q׃4^Ϧh$[ubƙ8@Um[-5E򛡵ʽFo~{0xj6kcbi)(ODU|u99y tKfJMTvƄ"_kY4By^X}-_;9};cZ! fڵp@*u9)P T8h¸{p@kz*^ ?T~C* CWERT"'dם4oӖp?p?)O~ S ERT5Ֆx+<^ Wx@D݋x] xߺ[)B,<` XxnPx+~")<`#xM3w`{%sDVC{v:׷;6+Kg/JiZO~-=Lâ9sՓ'{GxCs!j?S`>i{bzñ9`,¾q4(sBлʉ9-_4XTslFIV,Y @u3$,880M . p3?yNc8MRZqPo\tL bzAk66viEQ#3RBl20g27dwA}D7&Ns Ղozo$ǔ 1cv0Ua(笵26^`E_؋2S|9mO+ ~ΩpL l,F^kX k$GzIϖ8GS`)s0Fm<>5Pyb1=P`F{p=`l% R-a#x"t7 )CCz\t5&PcثCL8C Q x%i]_ɾ"{7)|.8w~}y7@Wczhuw16msxXQ~çRKܭG*e )ȬOKF[KM̑MRЊŏf^*o8ŝUa5{Q`jEuADKw|owVXN M jɯN 9A66'oW{ѽlj?N?~_ahᙖa߂g;oo>htUe#\v;&w0 zGaXT"; Xmeb.r ^_^\B>I04,O'P s&d5Tmv.nwF`@`x0U^yG8QfN oH~c<;l60A6#'{k#ߍAnk∤vĦC1y Xlzxsa䭂VvPTV"]rj@{-iPDWp2T ߳`qY:4?ci]T,&1 fGwB=A;W\\yvF+$u̓#3g2 yXz˄֊b qU SF傭 _;Itp=u /B`fmD͕NXQ* Po8 ( \,n,W?s-v6Zh`2Ca D瘽.] >z{MpE}2lrxt|9`ži#!쇍RQ;8+˞y~vwf6Nl,xlVzRN ;C#"jNESHD<+LI7 l!T F2-*z趑*=$Qg>ĞGtfJ!M>!IC[9$Hp9.bLqFWb؀􇫫vnJ1lx ^{h > [X\D+ЪvnGw& Pzp7=ga ,5 ?k0t'vJAsfW#I44H$ K1?SH1U1U5IҞG5}<\]\M(nDc|cua׫GCnK]GZLU1Y1Pr$N^EM%(ӮVbʼna9! KReņmTPY%3aM#.aPx`8C>_G5.|_1cr04,nĉ?>A`G 2=R:iVgq Py|j=ً+6D'B=dc/qj'ŁM ηEdq $\IYb#Fm4QzA&i>t+NHZ8KInfXEJ6\ \ypO" hit}q`b,GYQPyzQ:$rl$-w(}tе&Ú^Q RMw ʗ|I,$'椥dAǥoDtS+gˣ`o* ۆp 7g7!g#B&EXCӖ4>'D^$E#R6cv no%AYШ?ꁻ2;`]a@E5PC.2EL`>~Cm/ခstm wALOj, F`aӡLпOm6YHL"Y63 xͰxwFy|WM1hÉ'bAvw ӧݶ~ޚA>:W *Av1 onZޜ[gy+,(Ӷ!l|hϔO-Hk$S. 8a)A2cv^Gke᭡5|9 B0/ oUCϖD*}O_)VmdsR->ߺ!kmz>{`{Jߓ@>?`'a|>~*sMZr}-`G w|>W0|ZXw2u6%sd1aT#9lpe(Wnյ͹UKzs˝s[E8͍)N!xڑ`͐ &`CKu2rC6o΢rONb$L0j |xr'D(bM_D'<8k4Ԍ7Ph -y{zU/?}ZB) CM+_YhiUXpè ;4Nz !ԲJJ1&E-fZc=)%$,=u]KbC0h1@ƞYeQ6=FwX0rEg&|"C֊{.XMU>$vc5ߟ;ݻ8on:Eۈev> k8ء` g`!ׯC1rS~N:^ x(zI/_tI4K1[qɂd1Ϊ6HſR1J"R4i-4?7> pӍbȴi_F! nm_ڟl(jꏋ53u 2٣Vl;wZKic@O+27үal/g[M Ÿ[Vջt};xG@0Hje]گn.'?sS0ֶ_Bw058UÜV$\yyyO!0oOr.? ?g߼IH29ؐ@Vt LXcM |}cB26gMultO%ZgFpƤ-7Q-1ÔYOg#D|"j^FqZ+~81M:lLI o%;a7]BA3Ggxx}Tq3|H N@%Q}|V2s)ʧ %,ţgY9S?(Ft{# Φ'+%0%=.*~Φ"Eso4wS?vgU\c8?0Wn%2l+|.c03F]eoc̈́|a~/62 5ºsD3lG1 +|a_@>gx~UޗXKX+G"~?Oh70b=Iw  o (c5@_g_M^SQwO07K3Je|d5_KD#2 +F$]faKݱRw `37OIqNenG;SZUPVH/3p;5$MeK 0CӔh;Ueܫky}E2ޤS"`OpeXI,&뫌jowdoZFO(зTIK* iiod1 v_v cY v2xG 5:%g)%PёI1|w8l )H1%θw[4 5\Ȣ pIؑ ٧ߑ%Ƀ P;4@h&q xeR_$uEyb=r@#OD&/}=cm={iL$W\x yY1w WrSdΊVvZNLOt1`&?+/_j2pƏ9sl1m<>5Pc1=N{p=0RoK@3%%A|5E oSOK,ՒIcphAw8a H9Kc-a6uK92 ^\NK'ϵ~*Zo cj *ڬT3^¨/roci V(!VA;oϮ.q8ٸ<mŢR޷wm+o}OOkm5Z$u/YMjQ$">:k1统|IQ$e'ƒH`0{w;㰴It4$,]7jvpyt輭 YG<_+YPO)z}sAstI;D0F.;)UV$DO(r}Tfl* v@3:+Jb( =h!-~AymKT ^O^MvљL#T? pi2e)M4WPg``[83t%qhI`j @f:xcOp8N%qs܃\7nhZL IO?Oe=LTAx<*{qti5z[ mk2٥1u-g~Rqs7!ǂtxR=dUj\[U٧6FN{+ 1Mxg`o~""{I\5J Wl÷)rtx-;|Rxm yu^_ s% sVķ\<{ip87^g7oz/B;:~z}tL}BE⒤WE!V槟kHOL ԀY CPe{٤5[Z-ضҘ/;FSۋV]ckc5XdlISe&:6N .o@f0^ϷH 5u嬠#GFڤXB`bv _7UK|xU[j6NT?~kYW fMqy Od8Ùib+#<0m67%#x_u9z`|=ېS./PMiGef\KZBI=.H7A/W֖:e@vwm]FFhp}ْ)ŒZƷսoJg}1 HF1uc;5"EG#n?Lz|).vu']/q!Q2- i`ĕ:zp+K Q3m~kiEF%Ys ԇcm n)OAqI:P-A3S^ҢDca![9d`[#].囿LOtBƊ+:bOf4^F`ZjyP$/rs(Mb%5W wiF^{3ÞU5ORxbNRr'KAoGvӵFIRaȫTzzb %8)G%>7E3 c`jM{WSڤ nKUAU0ˠ^6 ŹYʼ2K wPĜbNh'R+?Jw `$\{rXHF$hYNJ b&QMFXNVNR<A䁘N3*^n%ťX.$[V^3[ThJSvc/l.ru7 xR'r0}HJ7>ɜ'£I.tmyf2+y6-UɶTgi0TO&ϰd8Σ8^|tAJcqmGpxL|bwLO.,gP|Lj9.ѽQ|by#E ыQ0h'V~,N µ]J!̝X`y;zR|i;#S%U$nkhazZ>* 17q:^] zԕf(Ð% @&|7n1u\ +0"i'_Yieǁ3W!n9 L_Ema,q9&0ݒjF;<}#,V ,ZfV7ec^"&zO`I()&TȾ l%!{ ,_brALJw*Kh mN~R½×S}%ٛ;xRizAiE$xK1L:.O$S41*4CIdy3L.IZTተDziʏ,I)v3G$ic4)pI)}ZRBn4`hG9-ɢ XI(Idك/ɒ@F>bؽ|]mMY`@_sGSzbxOyY9܇>PnXg]?fjw9J*؉rW:_Y.%ż/6ѦU/pFM] 3 u-~cV 05GHx&dC/Tg1Ñg˕wI -Zv )]aZv&lq YTg7(9(!( ? (Z  AUW@|4AX=2h-r88b3,ِR̈́Y@t\2`JM*ZЃ :gޏ.$elؿ)U4渚9TU 8D9QXx(}oX1d蛟ԼKc[- ?S_P1Y O(|B|@6dUϒ7Nny԰T3 T׳&fL:Β0̾XH1q+[F=Sų+kt%l62rl|@1AF]bwe2 3il `Fc pV֢2u_?Z| tc̓EwC "l)ew:84Oѩn9Br) !kB 6=J 4UfvۉnEht%1dCH}E^#}k𘔏dx9x .`JȌ=W^ȸ[%ԮU{옐na+W q ak(,/zSؗKah7&nJ=v,FWڧhL~eroBaK4tZlZ?>2?e*Uo5'lN;FOqe.y/"+Şj= U:UM  |G pQ,#ӷzV]]EkN{zJ.GZݶp+.D}}wUܶ=^2\VRK^¤W8Gu^pMzzv:O4Yx+|Y8=<hEOrh%vl?f#>nrm9 FLHf6~?U2d v!;7TEml`ۃm,.be^ a-,DYO+X F--K* AT.V.2aKaxEyo!@1 t!HbY["[#fP2#%7mEHĕR+]xn&)ΛL{[qa xTrtWn`ya 75̫Yk3'.F JBfc%0h2*Zݭ` SQŔ+4~SZs_+).!BE0saŶsyvTBP"HV9xaȾ؂i{rqEmR`a)H3r 0ڗPD̏kZ̏GX*_/?1^,^~\(\J!\0ã<xO`QV 2GWuJM6yF:>&M?S륕 4iZ_﵎x%_Icf1jgjn*d5;n]Y $T lcp= EnAM HZ( ./fx1.SzSONژq݈I̠I-"hd;5ڥhuii$Vj p ~NKJ/odW&_N|mhtێ&۪ BIbxR,%A,v,I)"FqHfj-&ƚ>5cW6b4KI7K^@Vd >_ fo{熼dngk;;{tнZ0^$t~SۯнC~{?tX~h߽HнE }ڍPEk`/Fg~ϽmOϽw?ܻ Er~/Z@緲 jͧ*kw=޽ǻx{Ǜw/{w~xW e={{x3Er=/Z@896<1`m=~[.BvQVY_k)g,gc䠛 Rv(BGߚjSD*F:DQ#]s}Iu;/MDT1)(ah ?!(k`q9LDp`.@I-f&Ah>9X1lfa1:NRqT.ZVے٬l AǃX$YYНjY;-|lшl V04ì{z1in0);cy2L.o1dꓱ/ UM)0b:vuX`LEJ2۪* |+ZT _PC Z[e^BI ZI5[LaH+-w@Q4<;Uw?$,>7̏Ou",۰A:uIPa^KR >I:VHnդԴTlI ƁвZaR6|%$N,ȗ(/{Z((PX6M2X.I abҊl䛎!9-IY0l)+cSK2/ܑ%Qi2/;UD1.(5dB>@ǖ'CO^}raKrZͰK_דzkB4{R[F=1_}5lDX(%+Sr IrWX_1Wޗ-ss5B 2?ޏɣMy?YIޤvyNqhG2*5̴ >9)}Z=B3!#xSyIϯ:PƆw"Ѧ˕w m]2SuYN#+0Ę l!`/*/ r(Q` Ĵ4LjRl&/eЩb*Upr֣4Uf˨qiu]Sofs]iߑ_Iw^MHWzp#TnHC*\7׆D a?'L^HjWwO(CrT ǖҺ^m*RA{gU[]ҳ t4\ONv4AjE^>%UArLv4rOs{z~ ʢӑVmJubQ*Cj(:d;V^_^ U3Ґ[~h 7V? nwmUƆnw"v)/Ok"B'0c?Vnw:m9 wS2UXcj^O5$ 2rs3@HWOԖACQKn1ʬ@STBLspB0bɆ*{@J)TXc*+@w~Z`kRLue[QJL"|YlRCWQ,F\0yOqlO q "W|Ez/ro2{6d>Çʠ$tѠQ |-g*-(xk&QT#[qQ=9q_S 2.ٚJN1{[`4p.@Ucby22[ 'T$.IzUbe~)6AĤ0* 5˘IkN ҴX)f[:]I1?YﰗMpX)p`ypDj 2+U .ofvx?")axAG, X- _Rʖ0jà ۃZPZg2%> [6KR]LYNqxțg#2s16FY Qřm w#|vJ΍9ɡ#>z|b~?S./ĕ`& 4cP̲`p3Ylw):H(#i%YVTf<聆7r[mx/ˇ[grN|b02V ZY"T[KbȴcSM,6/vÍ?vE3ҏF$&]~֙r[ðHME?a`''6|MA*)* *Dl91s&:/.0.̾~D]BaXs1o /)]~ NI)),Ni>E"рϙ)/iQ" Qx>B<"čHGArgrc JZA\vή]T$4lbqkK=!"#7xx cxxh=; "S~xZY6iԋiA5%h$|]JHf " F cZyXpN0]m)T!eVN D(EɼG(E3Ͱ!I)"z3ZIdɖ᫂f `l1L1*H47m%zH<5е)PZ.W~f pNI2?䰐ZH`!Zm! :F67^;Z K<"e}DVJȮLΧ"3)z*Ƙ*E˨UB?{asS3-2!՘VrjṆ㢒OuV#s*̟yʄ/$ xlT/JgQ1 KV|`z[].O5L/ct%)vPNEJ[Y$s"J[R3ʬjy4 RU:c=QZKlAƚΣ8^|tAJcqGpBy2Dr1]dXcD?PCQKv(_>X82(\:\)=-H-v+t[JEDScxyM1c3Țj?fuM7i72|i FL F= lYnhRoY(OL7m꣒Ż 9ݔ0ᴏKwG1P/{Mj7DW;D:{`| x J`4Xr5L]a%+!qU.v i:2;9F>Xl&3Y͐-Լ)y7~zSyI&TȾ l)l)Eՠ@U@! ې,7YORfm+|'^#6;6R/#h(m8ä㹌oPK2@A>Ms PY KRչPq?q,ɒhGi>xOKRK6F^B{ȧ%)%Mf}Ӓ,j QDJ=h,IjɧZ\ؼK# )+<HwJT!c1XD1O6 +'cOXgXO?tDMv_IZ=k{f;4{ztc%,ӷg+*3'^n<]y)!2JHǰbq}}2 /^!~LmZ`(xJ0ҀT[g(HC[GHx&d _xS)f˕w ׶-Zv =s,_!FcPnPur(ѷs+cOs7[k>\;3͘ Y07c7vl{4nt,H׹j…q-Sjo|zUovI#ՖO,ͶX*Ee 97;A[D iv`Ť<*_ OlWSU~rcFWEorֈʶ86\S&ר !-:Ԫ ܠA^\EVn?|(V15>·g R ЂmVU+=7WwZiNK6vWDa!L8dbct?<Z6C۶ݰyV¤N+{صfdC|r_ښnڬLrZp͘  `m#5!_uV#?Jm=zgX):H5$@N+ )d(mDžvf[<Ll\/ʩ#n.Jjѭ_ad[ԆՓ"nI|ܐ-~zk {ILlՙϴu^քtzVi C 0yyt_gl%%'KggY2ZP{jiX68aN&2BK^Y(l2 12>18ɰLX$4 X3Ck6X (xhA&Oqt`DH@?[XzISSXZLFTzWeqPw8f*զLB,{Q__UUwTKgtfW qXZ$:SoaK ڿ\^2&u =X-?p߄t'8譈9KLiq#4Q)̬̊r/fl* ̶`!Pqa9+?4gx$#D0 5!o\Ѡ)+2sDz9u? pi2e)M4WPg%ا 5*25/E/:1֡d|? }؆C6o ˷DX?T/>[ 5%?.kiJ|3)&j0[9 CǍ$趛h0WUH~[ò޲n}0y8-wjn6tɥl󜫏sg@N<i ,ԑ5|O6`*Ignk?Hց/jq5=s@'[?t σ7x&߇aTJHԝWu_DwBݩϮ/ooNuXm u:\M-r.$#c IuT&Jx0WhhZ=6tЙRJ^vx!rѲG5||ۙМV,`!vV02-imujNTTD#yB_m-)c(}@yDirpxA2MtQņc~6{F4 atS{TtH0=$zSb` Geg,!CS҉oXFyDjPjtKڱ_qVeaOR\u=p4sw/;aCy)H.r Z$tENOi`IHsZ$!ZӜ 1M|m\Rv+y8+?oY1" ÁQyCd*1 q!IH#isw#tpHP!'}FQ\l9=5K(I̥U4r3pIbi# U.WĺE̫.7iolr 0֭.0m 濩c-Pq>]GGbR%H<ߐod3Up z ]AzH%b`&O0e ΆEDcxX-F@mm U@z ՊǏI@8v8:Nɗ$Gɇ9+~O8D/RJz+V/#} =yFA9)gxLR:  OB|>(=ùc`ORNN/hRW61ܠrÆy^~< ?|TL~ IIErkr'!3l\MGˢ?S ,t1CX=Elp랜o B$GJ!.W1LE%rgD6Ԥޟ&7!3'msGܹ؉Ƨ?tOݳtZe5H(W./Ncy״4 Rβ2q_Sl}]LJ>|w38Ew"JjJ}EOvΛchKlj2N y4L $ Y|#sZw;q6~F&@e^ȩMs WP3dw{tz/jݹ|3fxh粑(O沵37:rہ5"P"CNZ JӒ5ߺ6X]1@EM^nP6ڮ6EH:IZ6;AtĠU;b]λ7I{ZՏtjMǁf+Ѥi#5^[ Z [{׾m!vl+4|5:{m{CZf) fIg0` R I[Hfb})NZB R͒Z Gh=Gv0zsė,DؐXwq8LGg~5YEYEYE+",Ew_*ooo~XDtHo-"޿K+=,ppp~XDtHp"CO`g% F9ʣ̟FeiB׾W,S\Hf_~ Cc%jKd>m2ZI gd,`Ye>4_L6:cmaԥ1qaTmԭ4}NM^W+":ٟRvrKlhO6>EIƈ<8+EYIAߓg| Ƃҟ,p%fz; %/^,a u{D ~Ipx@ odh<1Ԝ-7=2`ۣoR>{Kk,0dhR6ĊKߜ/6ktj~*cg)|6ͅGtptq<5% r~}%G.z܇R=u^9~}{srEy:Ĺ[9G ȴWvQzRPЂg &Ku?.ш._wi^4Jj9)8@@/"8>{}p,\k2sYI )N``8 :7"" _W#, 4dMxؿâf#w?%'ח?5x\Tt&9p4sU{K u&8a+ ̣۠쑀$#2Qhr1)t(&_uNs~ ,`C9x*HT S4(|*b&S~ O *d A(@f`dΝXz/y $iR ;)Ђ\?K2t;jY10#% _P=`)t oLt-t:bnG Rb/H%#}z{Nx& 4hˋm7`6{s4ƪ 0.9( iyN`o^Rv\fay%=pznuDhD 9\NWt l5.Ak Pۦ=/j 0<a .@;p5MdElƤ6Z4 6njNn-eD =~@/5e_ ^n< *ؒu;bq 6aK@;VK Jx= a(XGqx<҉9}ZFS[Yw|v qEp.*uPrzL{ǯX2"n{D';Y1dIw"F_}- 1 3'fMȒ0A:j;[BUɖe/m 22ԬgKXj;r>qq$A:~VniiQdh]]gT]4P*e +2UTIM8R<~%IDW, _d[Y2CbAJrR3 OTX\"t) ` aJ,cv.% p lykORHx-εQfsĞjsFE.o#-/_W^k!XFf#8 ͪ0D'$rX IW7`(HY(L#YB}݋V52 :+ 0<Q 7k+ή$tV$-8."D8`z,jȞ -JZ1\qS~R|͊VHaK ;9| cBt6$a؁Q nNSR=cPòNrdx\d0Ef( $u" 9O+:T2Œ< #,PeK9WV)qWĉW+ds!IujU~BoJ'Δt_[z2 ~5{_>XiyUOg8vW&` @to80m 5IɋE{J<"vr6(3UY|(jt>;'H.sgfS$dm>vʦH:4GG?H2ssŇ?P܋If/<$!DKD+5;V>Ye}@;ޞYa$&YPlO $>HLQqN)c"OINZ'BNbGLH8C'#k/KFJu݅W&T[BRU EHĀ"T٤D+"lO2$)_IJ2r&2 ,rpo"=&0*J9mTcs,2PkzUᗲx>/n6.Ty#EHaiXܐƍɥ #ljX0ЈlbXhAZ0QAcKdng, )8n6nv2Nxϝ-L 4ONK .D\FebW4a2iEEt $$3pdVU 9/G-z:N犾l7"˯"ji~aŰ1F ͼ", 6VGi,s; /ˆSbe ¬,b!r1rN'm&ZF06IK8 k$Cҍo"ɰ<ލeEO#EQplHp WQ"iSXd'09k"dᅻ]䡅,0ypdΏ\EE~HClB)$)7TϽVkLW8|jy_ >gvZ&Mx|=o؇WON)eEQtyc?56\f'oٻm-G 8ӯfۯEݛO{,}^z7~V*ac[\L`, > v..AKpGC{]Y (oۓBZF'V6ϭߤ*?Ť/۳}4ENuԩ5#9%CwseGWjxoF)϶h5lޯ˧Mv昮5g+ڝ;g WeIfS?7VWWn3zxōϝ߸q/=:ي:zϧ551ar!-X+5R_:~e-}'|^ڇ'Lظ}4U>$ߌ4a=cOOn̅ ܧo_Z6~V8_9ک˿:%0lz&3a留?4!*fozK|ٌi]zdO!ќo+sj 6M'n~J_EwL\X׮gSi])zneDT44GcpbDC7[4{_:}ptJjzi܏hǑ}?~l‰/1hW1W?,tH8>ߖ <ܲmЮ8rzN覻ysS/Z8qoO4'?}oP3oMvlro?;W8w۷?pAM|þԻ:nkn\,N[tۄU5_ `9p'u?6ׇ'֞Pe\_'_Ubm[yے|r%Y-9^L5ԏ?|7=CL(y%KP{O?FYˎ~GoI |s}`Vxݣ2?$ɝ;Os޴vu mŒ-I#*)-[K>/3uӿoa陷W&]<{l.׬ԞJI=㫽[7hT쾬w&P5Ֆʬ9fh*-/ ]1㘌1Dnv]KP"ԊPV̡q ~͘y>|}ێ;f1YIX RF{\i&M0gU;\544Z&)??u_\sYY%LldD[NĬyj˖-(<2EH==rIE=r7]t R70мEy=vӮ§^Z|߿ޅq/VPn32;hbƬߔ2Ǽ˴{#p,t };0kn5fIio0ڶˇmmȍAQ=T]&ڕYwhJ+ c:TqETi'F=JNJNfjKR+V#72J%j]; j=<.?SԾ*kԐlwr՗2k_yvZ!!!Qk0Y'esfc<֎{/MYʩ&TK[ne$kkkֳ;Shc% HG? /0LkmV!U#<);UVYI} E' E$;5T^Kv-VVPx-ߖ1X1,.\zTv)ua.qMҽu # etbjp*F/8m#2n0oV-Ipպ;_WGe׀:W k)GHފAoINI=ߵCϧ+X:ЌSרd(!Yq>1vs4Uݵ:cDR'),qݲ`O{tլ ȿNJ/RfMfs=}ĕ37;|XS Lhc/B?0>V]ԻT,wmwƞm2 r|kؽ>Pe]dO~6; (#m>,\4a}cZT h!!Y^|] Qk9JK=(L+y_2q&5fYCݩ53uUEHΤ6mJw#O X ͠,e×"6:$O_W\X^G|?"l1CD^W0 ?%Q ,f.։_G~G~G~<#+ i3|h!'g?Ǚh&?;q)F! E"qhu)><G]}ata 답`yGU>T"q0ݱ>>pҧ L®b1Q qC,%QPQ+9c< zaD<"E`ƀ18}"_q]0X>zׇмAzCϜc iTh"m?* f 04;v@SUHlC}]x$p7N>& )<˥cFHO 2vCv?!}6[hF>n B%=>O6}-C#՝ t$:.rexC{C#w*Dup𥰇 ȡk74E`: @/̏"*>A~A(?????Nb|sStg@qhL?bzx"bբw'K"@}Jgi"ĉ/j3DBM)=/![( jQ ThL&ƛ_?' _/:>0+pDgax=N{nNDL.iƄ &P1g:4݃T`B:1=.DO%>nd;z"hDك:KX_daE!QiT?/,Er]Kϋlm%b3j`73K"ٸp "vڽ-H->Kt/#Xfh 84|$:hoţDCvoNmZprRm?9+$"B՘)=`$ FC(I `$B''׍I%`#,1I} {}٩{lmL!1z$92x_5_ 9u ̯į:Ny< AT5Nt\-K[ #,`.@MF? oFxC@4ٌ|/TpUmا! ; #VЮI0̹VX)pܗ/#0e_''*1ݹ pQ߅ǃ( OB"A  D~ !($0nc 8Ab T8_.D~{.١@J/>4 { = 槇EЀc/n@x!k3ۍB%0hGn]Oz<4('!"3!Ӡ;Fpټ!6¢s@B=$$1H I RnFgL.vi$,cQF~#ycހ6#-HA\8~Cϳ8sODX'`"?jJDE&\IF"#K \3t]Nŷ!^e8T{ϝb @Ex=} (AKT;0'.oCUmV &b~9D?]OXJYW)9\Lߧw"]=]a;G8+Q|˼]P*p'QJQT>T޸^P}o(q_gZӫ> ࡤ9Ss{pOA)"`q%Y,>`L8bGWD"^QN"aЄ^"(]"Px} `ϣ}\0ӭz\#_ k>/<>(b6I_X&IA>Ja8=8Eʼn1_[ VXȍ%.{c 0h%^ǣ777g(a}CQs2 y12 bEE2< |⥿ Oh@x1L)nca`p8=` 'p'p'p_/ݗ7ڂ L߀iwHgvm5^~5/g_,V '#soaP59h(T$q] O?J =egw uw>؊pw7~ru݉@KPz/\?ain΋أV3G@x}=(l^l9b2 2[`b}G@Τ݆>d\7;sd,eHNTT7_$!1g3#[WA, {69x-IUC(M+~6-Ҡ1[gF2/1llVىQy?լI:iat3_\n$'S'8yO~Ǒs!ɱ+457k^z}ƣc<֥~xCi4h&ٞ`nKMdGWj:Rjݺm/yq645v %/(] Ͻ}D}`9ld&JzceM.6Jդjq'ySpbY J_L">8d:5NWT|Z!*ON ߷ۆ!$NJW1CWw]i~9wԐe4+GSijQ akDV m7/Ύ)7klKֵ͇R#^9L'Cd}*_ww͹KNj 999> lea3]?[W({*Xbm~:\X8Y%y`7Q~MCfmB늖ˉY K+c䵡v]5?m4n?gNs4wSU~zgxh< ;΀p 3=m4i4Ui'0~\Yci5(\_v͓`G͟Pi9>=EJ%~adM&sBA,/QQRxsw7GZ~qe훜~CvҡU:^05rVtkΥCxoПO^|_BaզΨݼ{wŽyxXr+ pQSGfiEQn ߥ5Cs҆NhUDβS~1Kv{*⩣w&j.\To߱R~$DjƘɵsYAjUӽ>_heDުsP1rV1h !Ώ&^:x r=3^r3]%tUubg- 1ZQSl ǦOkv[z<Ĺ'=gw*tqk=DUe&##g5 m3/2y7%3?QᏤ 钊w'@,w}gQPsɥWVTT8 Cd= 7 j<_,/S5s:ic17DLȱ6ӗn^JbskB َ~8΍O_$7аI`{ޑC})QCz_*!3؉ʾdi,YcdhiE=!(J]iQ*f[)-7{=[ cPMu߽]"gYb+dj«!/=߭qN5rcW3w_7{uE1*eێzMD^q=-~ÇaOMMM^EoClvn[I~ݔqK50k2EY=qsZ}98ٌ "XYs:)]\<Ǎ5:Pm}U?$ć5زeLwμ>I鮎'ÜP5\&Xc.z{>>Wɚ_0kkf x?N'2虩щ)uX1rVEQ.x 04^og~g?jko o掉Mrrr;y~p}jb:rk4py޻jͽ1R>`%e+$bt_iC%Ne'.2?WCtsCjw#A?~XG [fy$9pfI"ڻަB$ P3{ysĊLɋQeS&_"hAYc' 2K=[]UDV 36mliۂfTX4aZmKT%JU󧂉Vi|_\6fMoi7 f(I(5;pMfrapXjՃ$dcu.c[I#C73+ȡퟻ13ysŲ;qw@gΖ60~:i+S}9c֧ /Pn[zm\E02zfm@{ES)oMp|jjiB+wԈ&Ϣ}~|KC{sC)&{h]~dN͚b|,3,T[*.]pKV-OŠ[Oi-suzڞzVO]AUu|bsKJ6L˧w^Wڑg|\YU浽>g 2z[bR~?'uD~DDUoQkفU6l Ӧ/6b (Z.7y{E3v{6,3g'p$6Ŗnk16Ⱥ2KT^PyPٮꘓ TWV[7QXG>Vyg8Wc//8V֒Or]ՠTe@;:O!/.Dk n5ixȀֳS DF%vv Cu3+U\Q> %ak v9Tax#oW|aӰH"m*C(ɞvbkજUĬ88.Ê~HdMK)t.hWdC< ';5D񱛍mt |@"uO3Q)â>"*@{}|'VɡŤNWf%.q--+3$R90_UMs?-07n>ɣlN%^ԑL? t`F8,$'͔x"Z@♉uJҨSg0I4Z46MS|[ )CR) oއ7*MfI:et~zQפ͈I ֖85m.hVɒq.dV>#9кB>O73B{YqԪ[z'4N:_[!/lZJ9A1 Cf. 08Y.r*bzj"eߒ&k+y\`٢)VܚrsUT\tĤGKIF.q焒H>:8Vg330)D(Lݧ3rl6yΤ'LFV^om(TJFk&\3'XpsYLhO&ePA/H۪ tZ1}n[YRt) z>pyGFz.VVD9DŜ1 G:NQP+ct4"vJ Y|Fe+8,6h7$|e.L(aF,k]zFOWH:<ѣζ"X5enA3%?YL&7Lq+\Pu7D),Lb,+UG弸'7mW\‡2ne`+U2y;^ ={y`sSt{,wI%_mEβЇNj|GU;Oynmqz`5YaKN=@fΠB!cٛFޑ:^Ewh1C2ëC}Y wcGТᅩ20S›s2WTA9_3;&u7e" &{?w֩]+z)|Sf*x="K63z~DsY&l M!//MȜk6;SϪޱќGޏN84a0has!F+PF49f'<{6* r~PC4'Jsoh[U)!M~޳\[34++v,:1keuё }2ء̌E(#SL S<f\$@Û2j\ɛ$7.vҢl5 9qdz6vU*:9מ]=iBˀzmY}ZEi՞nEK;3TcŞ-'k5~Rs^5^{]YhIZH% 1ޞ{~nE7-׌z!3jW7aг$WɎ(|*e'>2n՛t$Lp캄/\Tk͙3gusÊIy'+X&y̮^s $mڴG>~N㩉oȌ05rmHt!Ս7*T즖GOOlsRRlK@x|*eg֖.)28bw,|dɪuzy5c %6>i<^_񅤅kͲ͟S<2:p뢤u=WYVո$ʌ{Cׄ2{+tw]x;ւ$(,>\+5/=}x]]ڽşЗO \!lfb[.|­b6'+a\iM.!!CS鑥.^dɿoכ>xYtTEo,v3'..=o\$u͛|#+cϮ!Ly5JJ|ᨨ1Z[4| 8x^Bb5T6!* \[H߀#rdd=(wS4w:- G}޵`ϸK'K~;y[]TLll =&̹EUƇBQ-̳0/,E!aCp̥tSumڜ9{ɯ?|$r~r#m.~)nPi8,ݗz1KAt-s"VIWWe5ЧXjBؚO'UW{|2BNP Wi'z~@QF_wTN(+&w㧬V^P 4|kQH=:VlcǧxgtN'(O(HmPt1\^~XX"qͳ[daq^q"ч'_([Qo8(ma2rrʾv/6mloDL1gW ʹH=-|}[îk&yn g?l2i'5]sT׿/~i{{vgLw[mwZMɧ:oxbe^يUIWwc_^+I%/uH^B򃣋GΙ)ܟr)kKc&Fw67e*sL<94Y˯NbƊrOG %-bx/O`Ym"J ;5<ͷ31鿜#;xƾ~SoyP$3'_Co".޾-s=P3npm08sMw^ߦ1Q[tnG<{:LF{aggIVz*4h-1$}n ɠHc뉸{/' Jeb~m1Dѵo/,ϨXF'f۸I˵DJ"g/'N+jM}1,ڇrB?7~[yn3|kέBazϏZoAӂy3Q~< k(K{2葙{X!sT(5>_C ~tT:??rIV:î\Pj<9քE^d ,G՛ɖ[6ʜ:乌Jsa:]76f.Vn1 |欨wy?6-9PFM p'çդ,t NݾyF8ejٙRˬviVa9Rv Z9W$GI糼 2ƍ-sBR임kiwYiތ5ߒV9YOE>P|d1mEr^\5:Mw r(W*[bV{ oQx嶱geVE/_`kzwsu_+jnnVN;SxkuNT=ؚNs!ȬdnFtei#RG }O^`ZZ ^9SŚjD L2=1k޼ 7&+(9&_IR”'7: lGD="JBw@Pˇ[Ƕ+x6rt K&JrBæ>K@O:ŠG+3;>KSj=q:::jOw{'YwfX؟=pS&@ SCfq^! wk?Ts{-UQ :u(mغF'`h4 ,^uh?/mm86z+tme%M+6N,E|B̋a@Dž4B SۼU9bEB\͑mF 3@4׎gd8"r\zn\_q-͚p;۟zm񃱯kC$zJ_D_>_P 6_4?eU\>![&V* xA$?0 p#̏#k 9"~ø3Ry36"C@/sv (@J@ Wņg$ 2Ϗ`pȰ8e0|ks5NṺ:,6۟KNCY1(ҡiX87̴{MV!*` Z )`>(૛#率eA']8c)c9.wHͽP`wlaMpaG6/dimlema2o= !.w~A0btۯjt1_ug|3X'Gy'X.W{Ծ]`Cp=^dí#nVa4Ḿg0:7ArFKQ:@tizU.@6\Q gH[jN(7vVlްB+ mn8n_XGH=Fm~ A ~ЈAMevwc#up|oHRƽ~p[v=ĽjTB̬! +<93y4_fr+gȑt9{{ك\ْlAU4yEp/IDIf=;AFϑmdRjocI&,">'^`q/9:[X/\,@B4f5z0|g >?,m! pr@?+16氕V7ȧcW/QC[C3>p-y鳷bіBRRRRR祀aG4_:cf#.9oh۵KK J ) uXɄ+yeX$r~qeRWwAǟ}WkFڐ +uHOɞ(W&Z>"uȝuVA35A>J6^$JW^<44M!:2]dDdŮ}}"MBI2GuаZdtqmSL]mz/RdbwO1{.^9W̔!iKN9y3LSaDS* @TH*mxA6X89.Q**l7A22\DH ҅ B9FEBSSn(9"9Z@I"\c";f L)! 3\)D  c3U:xO5 (_ETȗ ۙAJl0)~̜]8 :Z8@3>oX@/ @/(W*y._h@/?W߳]@iOw"BФ|4 _4Po7kq>Vpl/ԻwONrѱ}-Ď蹨#`8ŧ L;Ӄ^mr:+LMx6Ǥpf[W5'm4no0'08CC~=6bi^(4 (64m\VT& (Am 5EFVȟN :b8]-`U@cQК^%}A)RaFĊL >F}O2 죏9dps(8@>RR1?X! 218uת9lQح4;f5ktI60q9 Y$n J`єQFJqǢ. "yd)eјLA& ZԀ[&1 !0U!jthN4 pd?Exi m9@#ZFk?|-p*=zH g"ELgP`' TGmmφ# ݴÁ t]+cPfa$?B !OWoc:N?t??#J+X ,+H`@ _hį"lԵZ`{OM`Gu4# \S_g $,ڨWh6@ `}F73WNf>ZA 6  />H0H&(, AlVl|wѣ_]])@S>o@h_h_㫔C$Wl v6bxo PL҇6:* #%Υ4|ӌ8;`,9vΐ9&@Z*,*"qjqdm3`$9 [P~cL:%Qvau(Rs䤭(.hl:i"6<] [m!sXۣٙa Ga/8uH'[làA[<y#ۄ(AQ Q@0 Ha!gp . X !4f\6 P@‵Dҟ2;c 6mLე&\KH&"xfE{ U`!@@ 頛 ?d ]v{#'Uy$x]Ǥogd25tD4PrppnV9>JjX,WGǢSB1gHxu & WA umCͅ m3?у kj kivjٖ@ 0:z8uQ 3buMF P0`/FpMxX V0::د^uBp7UCm!3aV7H듭2hyW5Lyc~EQ(>G;\|NKk/w4at^ݡ8.N'48!$[hBiwPTOwJ͉kkBl;M6dFB#6HDr@ ,(Ӂʠ3]P_L7vd6 ~ht<~l#I?tC&@@d 5 k@64(:&&}OӗlfV%C"ʺ2tC෼bs<pbd t0V7%Mzɉw&vNDHo ZHTz⃩$z!L|st3'Qx#UQPXDu+DmT R܋z Ⱥ{eKU&)*H:=(<Od|Sr+ckM i3!% t W]"JZR5ee'fuO<b/#7FJ'UVd=WFm7Zњnxw-3h `/ AnkzҊŕUHc)]m<,#[w02 a2(2H2ٶm;ٶm;YQ7GiPT!H"thh8jf='iJm- Z<wg=߹,1 6M! 0̛"gNDTLqL{"H&;Ec'ݳ:t~E׋&{=^nu 4+ teWڇ;׫u&qg{j}Fe8T m=q9#!^M>_ Gtqy󇳣5iއ:>^]~g&eb^ #7SPhi5CM\k>by[G.4@C?jbIdE_V/rGXڟrޞJK*d8>TJTJSی 4ljЧ 329hT<>AI+hDT!e6u;̖XݞmZb7VQyN j q] EiU>. 0Af/OoaUIL\E JAH펶xrC[ ;,f\wc;.nTZ~qMvwJ 赈c6/q&xt Ɂm4cA$c]r/^=:d5[ul\^XxDP)MQtBq%͢]%KX*[@: 6 / jL0[ca>^,kF"pUKb|(rtqɊ8$$.pD -y Bإ  zD.oC4Z=͐|S NYr-h%V. $c" /\ PL"~܈}۩%*Z5YyD;b }:Sbl):SASO9oO=奙D&ޏJa`o\R`jx7*vtߎ-};?Xj<ѽR\>o[A5JUVng~y{*-\yjsY8JiO#&L._GWa^ s|rtu|rzR;;~ux EP̖.[k]Wx,Y3Ybq双cs5C2??%]3>PXMeifmRz.>v!Ils&?Y'6 ;vEHߕ)!!Lbj)ǍꏍLe-o k'bCiSw|0*HUSPLY.=azt*B|eԧy]˻C>ž[}R>ms򑗲B Qw*eu@lx`d-VoUt6WLX]c`TxkLHW5GŔt"ʿE'{^ok{dճ0 O|8O (nP_Wfޛژ~%_gIi`~ qRˉ W'5%:c5vݽ 1QM'&~/^b0Xyt,F^ĻŶ\Q1`F'`B.aT~"㸲C7Ϯ7ׇFQ?Vˤ]4>8k׻Yc$0>3 YiD3hKZvvѱpq@ޙ+L34T0r}tv/N-w k]Q1^ڧ٬:f{ !&C̨4l~oh[*ٸΗەЧ9ͦue&>?Lhݻb ՠ qzI{DV<̚E uQ>Je^he 1栌fP\f}>>Z(Vu"˞{=%=;I@ =[R\!=}=z9VCnFd F緹+noʚV3jfx5GJ{|k%pɬYdiK_3l 4u5õ(eRpj|O3/U!u0=Boc| ~Fٚ$p=21W#'=S( |Eq@: ٷHNt,Q= ƞ^BI)eq@h|h}Y)_@ f.fE+̔ g:(a&qC3%K13eBfI#tLIR4ʌ(:\3sEd0J3_B$= G@S*_lM]Ǩtȳn _\E =COFQ,[0(jJ36+Āf}s}H'TվXJynx4 V˯ϼ2jlH$ʅPX no978[hL`wVW8A#0/f*y~ȖIXM &ڎAdhʞl'?4l+En+Y4X\Cc~Fo- +V?Ƶ)Ӿn1a74}aD01%H^{,|p>̣x>ظϓ=Le}$2]LC7K (_c3x :d+ D䣉Ǭ_<{C'gOa,*' BEEO vD`%MNlp;ekK&yOǸ6,6OnsՉgphE.hQ&)C" 'uRuTyKqHinPYV1M3TS4 $:b|:C{ڷ1bt.۽'bwN_In8ɗ(|= -m {с`Նgf}u/FlWvL z+/07~S=ai]*BTĆiFw4Ǔr4f^g[g@t)A 'A{knG@YHxc@Ã0ٷۺ-39/kQ{VZ{+Vڽ{eS)oko`z7InP텲 Ha_X}PZ.iIS?QǸF6=1^г)WN(yȒHZ~<9sR6h XqV X2 fV;G=—Oז]+EdsC>+<PłE]E63Li)3G9;w5D6 HMUU_HK6wh$G9kxl2h [V5P[/0--M qJ*iu: b`zB'j#41 Ԟ l.]H?7EfQr/_6s\W6Ϗ U$KǙL&"<&"L c7AL4]vx>;}^Aʂ Rr-t\* srᕟ*;2fvv("Z((LL QJLh&,=.PWr@=~td>W ,ǃI F2R&WTjp7 C(>uӪ@k\MNm"f5+ @=j|}hŦ ƛ~J0>(R9=≄bKek2 eLOrI/L4/H'L!GP1M}HPTj Gc(Ph3U"HKQ 1FI(s 9u%C࿩[e5 EOG({ C0@xaxQr@{+ <Q|f(PFn0//.1z29D%APKo6YBBo@_y‡v`FKK׸AMb7bc2SOOƍ.9; Kf! 3Lu<@`6 R,!W=nJK-!u{ܡCR?/EPH,4 F[zrIZN4UZ%#`)*l8w|*$"*ATA!D؄ Gt`1«wB%B_ S ^p.GIE\BI/.D#M\)Yt2jjHrv6pT҆7DMfr"iWP6QY$ 2z6kYQogA vY2z(FyぎrE1{]JuVWȀi1슐 C:D''v3 Ed7JH5h2]DzEf'A%.4?y ܢaՉv8,‘5ۦe[nH>ɜU\֫$Ȉ¨ڊ*(@V#͞ Ne$a< _ ϚJ{OwBULj#$5JEŷBˤgӢJGiËihKS$it8!Ge)^*]n5f0RhSxUqO`J0ojx yBX9-"oDg@9M%eX E#9̑(s12jŶ:$ObQ8O P"fhŠMŹМ9D8.%곅bo.,?d%Or\HP &*'~E"Pr(\J.EdzI/ LJ#X'.W'!.CTDբa^s6arD`qN͒HN050B$B(qP[.I+fEŀ@buj7M[ad0گ= Dpj}tsb1@AʣPu'txJTNR H O!3$©EbM`~!heP2>3#d'TG?6 7٬ &ic26<2CS/?I#{A'Bx]]@8]x#22+pBZNjOi"-rEiT)#Tj۹NeGr9*W# r;7̬Qp K$( 820 2W+b!ɤ4[fRI%V9+3W e)\)(ll`m1>;aR#ib(b_*T:+Y4N?sfkތ,nJi#Ň-ږvZs*K cD9Y @֌D 407L"D)‹Bl+t x&HC&"bR-sG(A9Gf\>eB?1>D(MCN9~Dwxro.,JxC'yVf)Ju#U CZ£pmj/.m۹[~>%6yǂWtbq#ξ{o63W]pY+7{d?չe? !VYni}ގE~Yl~<7|O:Y<浗F\k^8Kw?rN~ڸڜu9رv4lw<05duQ_w{ƭ=h@;:{?fs/W֞L)m{he޺kQv7vZkF8v{ΡV}y3O>+Glkf⋼O\fEOf~xb^=Ws2?x|O樕_>d:g-o~yҩSo^iccv0cςcϾ̧͇FІ~t}m;{m_qZǷxu֭cy ]ϼ|֟>`+1ggM.ݧ4<9?jS󞞋?w}G|ŗ J ?ià 5KΔvvWzUͻ_77'Je\mfi.lFߵם]|hMg͜^COx?IWϜ۞-ؒ);ftPTǏgO?+=n̍Æ ;O_v`??]q3}xŜkuONYt:cҵq+>gNLn{|ܻ|+-cK'?.kN<2aqoiE˹qҥ3mvxqSʒ{{u ]嵙G^9nLn~?}cJb޿%$ٯlij$i_hWS32f̤lQD%%KR$[eRP.!)n$\6;#ǽs?W99s<=_N8uĢE:_LemكumIr{uxtgKj9m×gf#yԙ9&,Չ̭@jD9fo>=Х{bRKn<ώh?3w -(M22*k^z==w??n~7zT4m׍>^VBlCrjRUʤFw- xtvGHѽ!+7pӸɓ[c'3~֒Pz6ms}ٍ?b>~j;ZF g'sbUd Ǿ<&jMq$z|z91AGM\/t^ت|/Uz:J]{YԀ餜 VC%͜wdZmM4_sw;q7ӧ}2L۠ڎج+s=/_)~E=Y ~rFkuՒo^x?{ Ru翔ֺUGGv)dK$s2"x>_ǗJJ%7iĄͯ76wKq->[IvOyg$\F3/"jt?[paONmD'ofTy0_W{UyGŌA~Y~jWs6;|s mdp4wGϽzݡ`q/3+8ӡ'{zSHQ:|^YٷF$uT~Ee7eo^9[m3OCrK{T0c({5nNqKQuުRpyƝyjw1~֗nkϠUyգxrܼ"ZMߞG)#LH~t sytB?H5E}/%u CSN:?4bk1E;&p=W{j k,=~͒/g>t ٞڀimůb\Zu M۾1|u,CSiZ]`NΗc7]kk{#VeV7rP'b.[LWM]i[ٴ5G^*ܤ<(W6ᆁءlҏ1Ӛqa3zN?_U(ӹCA/umgnV]oX(nYV(i u5uAR̋Zr/oMۧHm! ]xkQ׶$RN֎[^,5϶_ER㢳C2uJK/nėm9`1(nǨՑk|XV9fkqaq㖍gҋ1P\DC2Us}CwfW9pEbf:2A?cZ|/UublpKkZm }wn Zurx/mQ&NQR_#:9flF*uܟͲ0UNzb bw@WV7"[;ϧ[V;7_V'Zt9Ƕ%LֶkvtE%γ}!^LO8:S㚣elH@|/kje{h/W^GUpAgRu1fOkKn`X3r֓ҍ֕Mܹk_+:Ho`e]=3b٢ə'6l80uXŰgD&+[;?{fS\K==7zk~K醑e,yXU)iЩ*SS)IbC|0,1>sި.[Tk GVϯ[CᆱV1ZV{Ux xW>i(?mr3=kXSr Sg .2Ycs8]+|e-:>F,?`]LuaaǂegGC<,/oSA{|LMX5;Lm*c[nhŎ/W{N{󓯇&ӷHi3GmT<6ʲ&Wq>wsKC?t*m|"%cג-zޘ7FU"q\47oܸy_.zIb'LhxYyz휦Nչ7iSm+^ypt?\YU,"bcr3/JܹREǡ?fkf޽\ٯFe]<; +++s?ZYLMQh֙zؑw3U܃X!Kʻվys zeT5*uAb^/xRRl&o2s&Ґq=zj78&oPc3L* l򉖞}YL@-*m?9"ʬ&bCUEHshuSc''syf 7+HlnB}O %$ ЊzQ}ki'b[j|rp(C* ޝh߿ݽ}lS?9,#'kcNzFu-Wjӱf_q9%~:rMN}ʥf>aE^^74Ծ3~VLӌ4TKLgvڽ9-*1xoAlݲӵS 7& a}[lz.NwFM {B 2`|.YGz}/`+Bwkƥ˳h^5f(q}>qZ+sѳMMM[jk8o>9qL#[ _j/U}6Xco"%ȴZAaH(*ja-XoDw$]3[U 5 mC,YY}嚿Y^yϖ9uu}붉&\^YY\doަ#/v ڙ/x#R8p8Uq&I%q߲ Yva,@c yѭ]1S8Dxi:ț%yZ{{`89{p awݮO'/iuO,{_N*tNESSwXU{YG[:oeeupڀ!O1יmycCnۆ 5Or^ZƻHJ:~ͽ^=;&v}&}h 퐳mt){Bi 7pLƥ g7q>ܛ[z?f=5hlYOog=qط$VБg&25/o?ǜڵ=G7{pJ ںG)UzɊ JS Oc?ni5 RK G'&1~3s痃 I76 :YGuS_IߊZK" P~m_k"[`y{"s^ҒǻU)u'L4 ݖ/},Z[ڨ]Ḙ6g,ROO7 B*Ng{3:=OtذYm#5E-I] yl^do4ӧ>RuؠJ#ϴ?n#?ښժM78f ~o+2p38/iX/eɢ~; YU'q{QPP6&-LˣWdgٴKIeS?xג}Gds(vN;l>/{WKm}п+|c; u~;Swϫ^k]_ͽPj~wu-Uj/>Lu|>LcoX=a0.o9@~z~%=m&mBknQQCr`.uZRSljU6k2w9Gj;P~CNZmoO=:Gy.#9&"_Q! A ӻ醲,)fIh>P&T@Qe̎@ (tF)Karu4}K8\O̓)HJqJJvzH뢥Q+JvDCPQFgXlSC8I^/`_6X@Q`s@N|ˡPvlEDZv%% bG^yI >D`1YLy=L! -ؐX;8(ZrZխ ĪG-hD-5h ŠS&{p"T\Bc%UYE)>JA紁5wW$,U8H(q$D'$_˔?G qa:rK_'j #X!);!M m%& &!o>KH0>;߉pSp#%|T$X+-H ]UI:mO&)g/[l,W\EwqE8 ʹ^vIIZA"k|/ (kZTz-LL Q0׬ $N I-vxZqǁA"MI_WpxIA.9 q^M@JvZ5 -%/C  ߆Ib)IMTdaSKh`{!lvΟVI$7WT:CĀ,G* \1i2I g#1O>:`V1|(#y'6 r?,3-V$̩(E:BH^QdM?wS+)TP( ]By>6-BFma{AJ!" ߫+҇Q&߫.҉^b"! V߫(҃A{*ot< K+I /t!#c ,8P9;jF= X@x9c}:$켨?.Wy=H؋~հO@Ŀ$u/;xAvYfBB#= .8K% 9Z\((+ȟz{oL"[E,@/K"Dy'bo'8O?&*QΑن O nV[r([PxE^2/ƭ5 )%]+ehmgX p [tj#D9F`m`GJX@iL *c(1Py%14Z6`f"c<{˱lV p̦0Xt&bR("h'iQA9y[f dW`cD H2l,ư1ƽdظ7 8è3l,NA"2֔5 ᗒǨvoٔ2ِL".(1I"#!,"-E<{ˢY/b"B&ńQA=Jxk- kʘlME0/ư> ?0j a8ɦ1g ilhaϬ#@s꫏` 'ֆ/&W򽖆dC!Q/ й )L0RZDRJɧkwSvR/()spswu {xZxzy-qhh; D=##c* 92a)a +`CXQ<:*J):J A翁>I:`hOM!ZyYc@{[dO2XO0,:xCa.X +** ~yA=23X,. GQ! E <qUui#KfaXLaӰ Q ]HpiY^6. Ff0)81qlݼta*|C A) S,?dS! "cY6 jV . i4'bxG#@MkI" "qAK<Kc1X,, A_J!ABA`3?Pt/&ńј4DXD$@|8oJM 9^R&,y 6E`!i?  + +}\ّ >(ֿj/}..RIik㏶[IJp7$gErzҒG@&a~ٛ[1K| 3A(&. J ѥZQ RcI>+M F#jEÇz-b1ۣ*j<)#}*50}hq mWwg ,Tcȩ!tÍR-rJ ]yY1eJbIMMaE\1:x5JqB@fAGt"%),{,N /@: ˃܅@ˈt]gQnEI\aHeQ{hq^L^y-R.n^|wr‑4 Pߊ f QtCt@r`Qtprh:afj%Jeæ~2 `"̣q\KDvA-sk+x~VYRR8:r!(P .B!qu\74tP@q?gUO0X,@=qUb+J wb(ձWJ󏌊XQi"Dra(KŒB) $ b a7J<ZHNgT/أ!4Ȃ*ۣ@(,'d/00f B<[HX_͚mk*kso Y[줵?O9Yenm.PYXp"1W( W_k7 Agˡј( tXVuLؑ Kat*S ҁEB焂93HrHd[fTN]\EeUKp Z>9` #06˥QyTGk`ixk kzbɈ}G0z]?¥XEăX$XSq`X? @hH7X/ϽȖ-88/3N(UB i5K. I %#7EYd)Q1_xc^ y1\\{EHO ARb_Yd323z3_Й%ᇂTwY-z$RHG((< FBN3Dٝߧ2&/[OSx J${"wEKbBջKDAĔ@G BޕCaBd-Ba,%4a,c'd˾$ٍ}I*\KY$e)B1$TvBR$ŵ4n?g0?79ysVd<:GΌac9aq\0oX}+.{Z>m1K(Kd/k֭|A=q _ 5\_T%H䋐W`:T~Zζ-۷Z6?A' SAQm7Hye}3bRPo?o -U2bA=EXʆ_s:; K11Y .Ę5teJ}}H3F%Լ&yK+zݍuVѐn0d+%t#x4]Lfiufﷻ <NLZ&G _; S~JY7c0 >0&GeEi"E'@]~ ޶IC_ QUچr7)EV6,,Q(DL0Q\tHV MQq@IKMi32,<2d+G_S:(#(q0~6([^ɓ:LۘԯgOyMH_UOJabT{WalJ6V(ފqQUY?VU*=*P~,=\f3zcqsXmB,t$M|Ne>|̛eJke֪W9 {/˱6Bȟif\WbZĨ<މsrcI GXEЍ=`vhpw2/?_ 6Ddᅓ*E>2_gH[l=EX>T90?Ee]pehhg⾲"*b M[&w!TJq %/ێ; ̰DeCYxȫo{cmVeu+ᙚJ񴏴c t/GF.Mښܤ;ef:wB%M23;P٫;#U<2'htеf{EUHނ:5vv:Q^7ig,&?$q7w.@[ipԜ)geǾ!&@E}wH/Ңz`d0Dd2 7Mˆʦ:^[:.mrVbddxoםȳUSR%&` sAԭrT/lǚ{sIAB}1نE] sӷ8`ibGA`z@:ifrzڍĢ| B'"YoI3^E7{Ǚ\&kEW||;gE9C+ITWkyMh=rdex9\B(5KWOy֤G.YsBGOJ%9VV>;|)!yGƅ垢o/lf>]3\B{]HM+X ᝝zFTJ6u¢xYD ZEپ)HIUL-ңmr~QPAIQmY_ZKp1B7ՎK?yr t'9/)gbZmqk3"\.߆:4`a'U7L6zi4LKgU͸8>σ9tu{)+Nxs߻p,c{o͋ē]up5Ψ_n2)yw23 Q "v/8AV|i9(6UA01_.jpYHyYdիŹ۹p]H;vZ{wQ> )uq4k &0>(,{m$a_x#CCsY}kirМӣ ԴZRӳ#KKE]*l}fo4ݵZM_>-9;exLmJޡmrEB=Ȥq&bew,w :Ro[>ՊקS5ϕ7fx<2!{ⶶtqvY l6#HP=Ӝi)T̼oqu\,;r`ý]&B1 O \Rd+ jt"$gh  XR(J<p~5}KM{8Y=e66vb]-Snyf9Z W`*ʻpeJ:^/7G)6kKlBBG/*ckȸBM>X0z@ījYw KJ= ͩ ###%\ȀX>}$U9/6\v[Pd&-썑 '7w(@F=%RҠAGݸ2,#o@N$6H]4v%́*vJII='<δܝ\hwmai=4k,Ž@D:.^5<@{T58'Y &]΂8;Oyxza>}!8뗃O%YxxMc!9ݨo?溋_̹HH:c3&en iluGvM5ĨՎz ]<:iNX},bS>jW^ǛgNH,/?qd/Oze)sN3`{Z/P'!egR!.@|X627[K MaJ ;̋Zص3CJLȼ+"%%iN{:s4@9ZU=vlLYv^cUr^PKլ2.~[\Hu9P0h;6XTzRvw<h2 BZly+dN/}̔O'<6':uagI):}PtILm4f\uBnhAOē11YvF^Η_mؚ OVM{mlm!M4ٸDQv; ?tn{lcI=/~,0HtX^Tȁc%EbrB @Xo8D# YͰ=rTK\S%! O }X|ٳX]hLC`pK= B QtLsov5-(0Iuv/_;k v'ֹ9ӦJmYp|rgdu qu`W!>s9V`CK<2hJ˪Y#ݿ=jjד>a:6 {hkqv>F੓?o{]W[_{D9~yn!PTHxheėnΠȰi:w|x8?{S*w 5ڗG_DwCk36Uyda0*gR*w{I$R cty4)֋z]?+FokBs YA{ѺBR3PEJ5ɢVZJX _E&McrM[r ġʏ+ˠ7<657aʡQ}QȄy{Q˪}l%P*yQM%S*^Mi+d䔱 !qNFMS!Fh1 .\p… .\p…4[