orthos#source#propagate: UNNEEDED, same version is already published RbowtieCuda#source#propagate: UNNEEDED, same version is already published