Package: zitools Version: 1.4.0 Command: /home/biocbuild/R/R/bin/R CMD check --install=check:zitools.install-out.txt --library=/home/biocbuild/R/R/site-library --no-vignettes --timings zitools_1.4.0.tar.gz StartedAt: 2025-11-14 16:24:04 -0000 (Fri, 14 Nov 2025) EndedAt: 2025-11-14 16:32:24 -0000 (Fri, 14 Nov 2025) EllapsedTime: 499.6 seconds RetCode: 0 Status: WARNINGS CheckDir: zitools.Rcheck Warnings: 1