Package: zitools Version: 1.4.0 Command: /home/biocbuild/R/R/bin/R CMD build --keep-empty-dirs --no-resave-data zitools StartedAt: 2025-11-14 06:24:52 -0000 (Fri, 14 Nov 2025) EndedAt: 2025-11-14 06:27:13 -0000 (Fri, 14 Nov 2025) EllapsedTime: 140.8 seconds RetCode: 0 Status: OK PackageFile: zitools_1.4.0.tar.gz PackageFileSize: 248 KiB