Package: zinbwave Version: 1.31.0 Command: /Library/Frameworks/R.framework/Resources/bin/R CMD check --install=check:zinbwave.install-out.txt --library=/Library/Frameworks/R.framework/Resources/library --no-vignettes --timings zinbwave_1.31.0.tar.gz StartedAt: 2025-10-25 01:10:25 -0400 (Sat, 25 Oct 2025) EndedAt: 2025-10-25 01:14:49 -0400 (Sat, 25 Oct 2025) EllapsedTime: 264.4 seconds RetCode: 0 Status: OK CheckDir: zinbwave.Rcheck Warnings: 0