Package: zinbwave Version: 1.31.0 Command: rm -rf zinbwave.buildbin-libdir && mkdir zinbwave.buildbin-libdir && /Users/biocbuild/BBS/utils/build-universal.sh zinbwave_1.31.0.tar.gz /Library/Frameworks/R.framework/Resources/bin/R zinbwave.buildbin-libdir StartedAt: 2025-10-24 02:04:54 -0400 (Fri, 24 Oct 2025) EndedAt: 2025-10-24 02:05:33 -0400 (Fri, 24 Oct 2025) EllapsedTime: 39.5 seconds RetCode: 0 Status: OK PackageFile: zinbwave_1.31.0.tgz PackageFileSize: 1.018 MiB