Package: zenith Version: 1.11.0 Command: rm -rf zenith.buildbin-libdir && mkdir zenith.buildbin-libdir && /Users/biocbuild/BBS/utils/build-universal.sh zenith_1.11.0.tar.gz /Library/Frameworks/R.framework/Resources/bin/R zenith.buildbin-libdir StartedAt: 2025-10-17 04:21:49 -0400 (Fri, 17 Oct 2025) EndedAt: 2025-10-17 04:22:32 -0400 (Fri, 17 Oct 2025) EllapsedTime: 42.4 seconds RetCode: 0 Status: OK PackageFile: zenith_1.11.0.tgz PackageFileSize: 735.1 KiB