Package: zenith Version: 1.12.0 Command: /Library/Frameworks/R.framework/Resources/bin/R CMD check --install=check:zenith.install-out.txt --library=/Library/Frameworks/R.framework/Resources/library --no-vignettes --timings zenith_1.12.0.tar.gz StartedAt: 2025-11-10 23:03:29 -0500 (Mon, 10 Nov 2025) EndedAt: 2025-11-10 23:05:43 -0500 (Mon, 10 Nov 2025) EllapsedTime: 133.6 seconds RetCode: 0 Status: WARNINGS CheckDir: zenith.Rcheck Warnings: 1