Package: zellkonverter Version: 1.19.2 Command: /home/biocbuild/R/R/bin/R CMD build --keep-empty-dirs --no-resave-data zellkonverter StartedAt: 2025-10-21 04:08:18 -0000 (Tue, 21 Oct 2025) EndedAt: 2025-10-21 04:09:23 -0000 (Tue, 21 Oct 2025) EllapsedTime: 65.0 seconds RetCode: 0 Status: OK PackageFile: zellkonverter_1.19.2.tar.gz PackageFileSize: 1.48 MiB