Package: zellkonverter Version: 1.19.2 Command: /home/biocbuild/bbs-3.22-bioc/R/bin/R CMD INSTALL zellkonverter StartedAt: 2025-10-22 15:22:16 -0400 (Wed, 22 Oct 2025) EndedAt: 2025-10-22 15:22:34 -0400 (Wed, 22 Oct 2025) EllapsedTime: 17.8 seconds RetCode: 0 Status: OK