Package: zellkonverter Version: 1.19.2 Command: /home/biocbuild/bbs-3.22-bioc/R/bin/R CMD build --keep-empty-dirs --no-resave-data --md5 zellkonverter StartedAt: 2025-10-22 20:49:23 -0400 (Wed, 22 Oct 2025) EndedAt: 2025-10-22 20:50:14 -0400 (Wed, 22 Oct 2025) EllapsedTime: 51.0 seconds RetCode: 0 Status: OK PackageFile: zellkonverter_1.19.2.tar.gz PackageFileSize: 1.416 MiB