Package: zellkonverter Version: 1.20.0 Command: /Library/Frameworks/R.framework/Resources/bin/R CMD INSTALL zellkonverter StartedAt: 2025-10-29 21:36:00 -0400 (Wed, 29 Oct 2025) EndedAt: 2025-10-29 21:36:07 -0400 (Wed, 29 Oct 2025) EllapsedTime: 7.6 seconds RetCode: 0 Status: OK