Package: zellkonverter Version: 1.19.2 Command: /Library/Frameworks/R.framework/Resources/bin/R CMD check --install=check:zellkonverter.install-out.txt --library=/Library/Frameworks/R.framework/Resources/library --no-vignettes --timings zellkonverter_1.19.2.tar.gz StartedAt: 2025-10-22 22:43:45 -0400 (Wed, 22 Oct 2025) EndedAt: 2025-10-22 22:47:17 -0400 (Wed, 22 Oct 2025) EllapsedTime: 212.2 seconds RetCode: 0 Status: OK CheckDir: zellkonverter.Rcheck Warnings: 0