Package: zellkonverter Version: 1.20.0 Command: /Library/Frameworks/R.framework/Resources/bin/R CMD build --keep-empty-dirs --no-resave-data zellkonverter StartedAt: 2025-10-30 00:35:03 -0400 (Thu, 30 Oct 2025) EndedAt: 2025-10-30 00:36:15 -0400 (Thu, 30 Oct 2025) EllapsedTime: 72.1 seconds RetCode: 1 Status: ERROR PackageFile: None PackageFileSize: NA