Package: zellkonverter Version: 1.19.2 Command: rm -rf zellkonverter.buildbin-libdir && mkdir zellkonverter.buildbin-libdir && /Users/biocbuild/BBS/utils/build-universal.sh zellkonverter_1.19.2.tar.gz /Library/Frameworks/R.framework/Resources/bin/R zellkonverter.buildbin-libdir StartedAt: 2025-10-22 23:21:47 -0400 (Wed, 22 Oct 2025) EndedAt: 2025-10-22 23:21:56 -0400 (Wed, 22 Oct 2025) EllapsedTime: 8.7 seconds RetCode: 0 Status: OK PackageFile: zellkonverter_1.19.2.tgz PackageFileSize: 1.212 MiB