Package: zFPKM Version: 1.31.0 Command: /home/biocbuild/bbs-3.22-bioc/R/bin/R CMD INSTALL zFPKM StartedAt: 2025-10-17 15:37:46 -0400 (Fri, 17 Oct 2025) EndedAt: 2025-10-17 15:38:08 -0400 (Fri, 17 Oct 2025) EllapsedTime: 21.9 seconds RetCode: 0 Status: OK