Package: zFPKM Version: 1.31.0 Command: /home/biocbuild/bbs-3.22-bioc/R/bin/R CMD build --keep-empty-dirs --no-resave-data --md5 zFPKM StartedAt: 2025-10-19 20:46:48 -0400 (Sun, 19 Oct 2025) EndedAt: 2025-10-19 20:47:34 -0400 (Sun, 19 Oct 2025) EllapsedTime: 45.9 seconds RetCode: 0 Status: OK PackageFile: zFPKM_1.31.0.tar.gz PackageFileSize: 147.7 KiB