Package: zFPKM Version: 1.31.0 Command: /Library/Frameworks/R.framework/Resources/bin/R CMD INSTALL zFPKM StartedAt: 2025-10-19 15:36:18 -0400 (Sun, 19 Oct 2025) EndedAt: 2025-10-19 15:36:50 -0400 (Sun, 19 Oct 2025) EllapsedTime: 31.5 seconds RetCode: 0 Status: OK