Package: zFPKM Version: 1.31.0 Command: /Library/Frameworks/R.framework/Resources/bin/R CMD check --install=check:zFPKM.install-out.txt --library=/Library/Frameworks/R.framework/Resources/library --no-vignettes --timings zFPKM_1.31.0.tar.gz StartedAt: 2025-10-20 02:38:45 -0400 (Mon, 20 Oct 2025) EndedAt: 2025-10-20 02:41:35 -0400 (Mon, 20 Oct 2025) EllapsedTime: 170.4 seconds RetCode: 0 Status: OK CheckDir: zFPKM.Rcheck Warnings: 0