Package: zFPKM Version: 1.31.0 Command: rm -rf zFPKM.buildbin-libdir && mkdir zFPKM.buildbin-libdir && /Users/biocbuild/BBS/utils/build-universal.sh zFPKM_1.31.0.tar.gz /Library/Frameworks/R.framework/Resources/bin/R zFPKM.buildbin-libdir StartedAt: 2025-10-18 03:29:31 -0400 (Sat, 18 Oct 2025) EndedAt: 2025-10-18 03:30:02 -0400 (Sat, 18 Oct 2025) EllapsedTime: 31.2 seconds RetCode: 0 Status: OK PackageFile: zFPKM_1.31.0.tgz PackageFileSize: 223.1 KiB