Package: zFPKM Version: 1.31.0 Command: /Library/Frameworks/R.framework/Resources/bin/R CMD INSTALL zFPKM StartedAt: 2025-10-17 15:19:59 -0400 (Fri, 17 Oct 2025) EndedAt: 2025-10-17 15:20:08 -0400 (Fri, 17 Oct 2025) EllapsedTime: 9.0 seconds RetCode: 0 Status: OK