Package: zFPKM Version: 1.31.0 Command: /Library/Frameworks/R.framework/Resources/bin/R CMD build --keep-empty-dirs --no-resave-data zFPKM StartedAt: 2025-10-19 18:06:04 -0400 (Sun, 19 Oct 2025) EndedAt: 2025-10-19 18:06:24 -0400 (Sun, 19 Oct 2025) EllapsedTime: 20.2 seconds RetCode: 0 Status: OK PackageFile: zFPKM_1.31.0.tar.gz PackageFileSize: 205.4 KiB