Package: yarn Version: 1.35.0 Command: /home/biocbuild/R/R/bin/R CMD INSTALL yarn StartedAt: 2025-09-29 21:31:24 -0000 (Mon, 29 Sep 2025) EndedAt: 2025-09-29 21:32:29 -0000 (Mon, 29 Sep 2025) EllapsedTime: 65.4 seconds RetCode: 0 Status: OK