Package: yarn Version: 1.35.0 Command: /home/biocbuild/bbs-3.22-bioc/R/bin/R CMD check --install=check:yarn.install-out.txt --library=/home/biocbuild/bbs-3.22-bioc/R/site-library --timings yarn_1.35.0.tar.gz StartedAt: 2025-10-04 05:39:16 -0400 (Sat, 04 Oct 2025) EndedAt: 2025-10-04 05:45:44 -0400 (Sat, 04 Oct 2025) EllapsedTime: 388.0 seconds RetCode: 0 Status: OK CheckDir: yarn.Rcheck Warnings: 0