Package: yarn Version: 1.35.0 Command: /Library/Frameworks/R.framework/Resources/bin/R CMD INSTALL yarn StartedAt: 2025-10-02 15:41:17 -0400 (Thu, 02 Oct 2025) EndedAt: 2025-10-02 15:42:24 -0400 (Thu, 02 Oct 2025) EllapsedTime: 67.8 seconds RetCode: 0 Status: OK