Package: yarn Version: 1.35.0 Command: /Library/Frameworks/R.framework/Resources/bin/R CMD build --keep-empty-dirs --no-resave-data yarn StartedAt: 2025-10-02 19:26:39 -0400 (Thu, 02 Oct 2025) EndedAt: 2025-10-02 19:28:17 -0400 (Thu, 02 Oct 2025) EllapsedTime: 98.1 seconds RetCode: 0 Status: OK PackageFile: yarn_1.35.0.tar.gz PackageFileSize: 2.973 MiB