Package: yarn Version: 1.35.0 Command: /Library/Frameworks/R.framework/Resources/bin/R CMD build --keep-empty-dirs --no-resave-data yarn StartedAt: 2025-10-03 18:04:37 -0400 (Fri, 03 Oct 2025) EndedAt: 2025-10-03 18:05:13 -0400 (Fri, 03 Oct 2025) EllapsedTime: 36.1 seconds RetCode: 0 Status: OK PackageFile: yarn_1.35.0.tar.gz PackageFileSize: 2.973 MiB