Package: yarn Version: 1.35.0 Command: rm -rf yarn.buildbin-libdir && mkdir yarn.buildbin-libdir && /Users/biocbuild/BBS/utils/build-universal.sh yarn_1.35.0.tar.gz /Library/Frameworks/R.framework/Resources/bin/R yarn.buildbin-libdir StartedAt: 2025-10-02 23:24:48 -0400 (Thu, 02 Oct 2025) EndedAt: 2025-10-02 23:25:08 -0400 (Thu, 02 Oct 2025) EllapsedTime: 20.1 seconds RetCode: 0 Status: OK PackageFile: yarn_1.35.0.tgz PackageFileSize: 4.118 MiB