Package: yamss Version: 1.35.0 Command: chmod a+r yamss -R && F:\biocbuild\bbs-3.22-bioc\R\bin\R.exe CMD build --keep-empty-dirs --no-resave-data yamss StartedAt: 2025-08-15 00:02:46 -0400 (Fri, 15 Aug 2025) EndedAt: 2025-08-15 00:03:41 -0400 (Fri, 15 Aug 2025) EllapsedTime: 54.9 seconds RetCode: 1 Status: ERROR PackageFile: None PackageFileSize: NA