Package: yamss Version: 1.36.0 Command: /home/biocbuild/bbs-3.22-bioc/R/bin/R CMD check --install=check:yamss.install-out.txt --library=/home/biocbuild/bbs-3.22-bioc/R/site-library --timings yamss_1.36.0.tar.gz StartedAt: 2025-11-17 05:32:36 -0500 (Mon, 17 Nov 2025) EndedAt: 2025-11-17 05:37:45 -0500 (Mon, 17 Nov 2025) EllapsedTime: 309.1 seconds RetCode: 0 Status: OK CheckDir: yamss.Rcheck Warnings: 0