Package: yamss Version: 1.36.0 Command: /Library/Frameworks/R.framework/Resources/bin/R CMD INSTALL yamss StartedAt: 2025-11-17 17:32:21 -0500 (Mon, 17 Nov 2025) EndedAt: 2025-11-17 17:33:23 -0500 (Mon, 17 Nov 2025) EllapsedTime: 61.3 seconds RetCode: 0 Status: OK