Package: yamss Version: 1.36.0 Command: /Library/Frameworks/R.framework/Resources/bin/R CMD check --install=check:yamss.install-out.txt --library=/Library/Frameworks/R.framework/Resources/library --no-vignettes --timings yamss_1.36.0.tar.gz StartedAt: 2025-11-18 16:38:49 -0500 (Tue, 18 Nov 2025) EndedAt: 2025-11-18 16:45:46 -0500 (Tue, 18 Nov 2025) EllapsedTime: 416.2 seconds RetCode: 0 Status: OK CheckDir: yamss.Rcheck Warnings: 0