Package: yamss Version: 1.36.0 Command: rm -rf yamss.buildbin-libdir && mkdir yamss.buildbin-libdir && /Users/biocbuild/BBS/utils/build-universal.sh yamss_1.36.0.tar.gz /Library/Frameworks/R.framework/Resources/bin/R yamss.buildbin-libdir StartedAt: 2025-11-18 18:50:31 -0500 (Tue, 18 Nov 2025) EndedAt: 2025-11-18 18:51:25 -0500 (Tue, 18 Nov 2025) EllapsedTime: 54.5 seconds RetCode: 0 Status: OK PackageFile: yamss_1.36.0.tgz PackageFileSize: 735 KiB