Package: yamss Version: 1.35.0 Command: rm -rf yamss.buildbin-libdir && mkdir yamss.buildbin-libdir && /Users/biocbuild/BBS/utils/build-universal.sh yamss_1.35.0.tar.gz /Library/Frameworks/R.framework/Resources/bin/R yamss.buildbin-libdir StartedAt: 2025-10-03 02:28:44 -0400 (Fri, 03 Oct 2025) EndedAt: 2025-10-03 02:29:21 -0400 (Fri, 03 Oct 2025) EllapsedTime: 37.6 seconds RetCode: 0 Status: OK PackageFile: yamss_1.35.0.tgz PackageFileSize: 734.4 KiB