Package: yamss Version: 1.36.0 Command: rm -rf yamss.buildbin-libdir && mkdir yamss.buildbin-libdir && /Users/biocbuild/BBS/utils/build-universal.sh yamss_1.36.0.tar.gz /Library/Frameworks/R.framework/Resources/bin/R yamss.buildbin-libdir StartedAt: 2025-11-10 23:41:17 -0500 (Mon, 10 Nov 2025) EndedAt: 2025-11-10 23:41:29 -0500 (Mon, 10 Nov 2025) EllapsedTime: 11.7 seconds RetCode: 0 Status: OK PackageFile: yamss_1.36.0.tgz PackageFileSize: 735.4 KiB