Package: xmapbridge Version: 1.67.0 Command: /home/biocbuild/R/R/bin/R CMD INSTALL xmapbridge StartedAt: 2025-10-16 21:08:36 -0000 (Thu, 16 Oct 2025) EndedAt: 2025-10-16 21:08:55 -0000 (Thu, 16 Oct 2025) EllapsedTime: 18.7 seconds RetCode: 0 Status: OK