Package: xmapbridge Version: 1.67.0 Command: /home/biocbuild/R/R/bin/R CMD check --install=check:xmapbridge.install-out.txt --library=/home/biocbuild/R/R/site-library --no-vignettes --timings xmapbridge_1.67.0.tar.gz StartedAt: 2025-10-17 14:59:51 -0000 (Fri, 17 Oct 2025) EndedAt: 2025-10-17 15:00:13 -0000 (Fri, 17 Oct 2025) EllapsedTime: 22.0 seconds RetCode: 0 Status: OK CheckDir: xmapbridge.Rcheck Warnings: 0