Package: xmapbridge Version: 1.67.0 Command: /home/biocbuild/bbs-3.22-bioc/R/bin/R CMD INSTALL xmapbridge StartedAt: 2025-10-20 15:01:28 -0400 (Mon, 20 Oct 2025) EndedAt: 2025-10-20 15:01:35 -0400 (Mon, 20 Oct 2025) EllapsedTime: 7.1 seconds RetCode: 0 Status: OK