Package: xmapbridge Version: 1.67.0 Command: /home/biocbuild/bbs-3.22-bioc/R/bin/R CMD build --keep-empty-dirs --no-resave-data --md5 xmapbridge StartedAt: 2025-10-19 20:46:09 -0400 (Sun, 19 Oct 2025) EndedAt: 2025-10-19 20:46:27 -0400 (Sun, 19 Oct 2025) EllapsedTime: 18.0 seconds RetCode: 0 Status: OK PackageFile: xmapbridge_1.67.0.tar.gz PackageFileSize: 3.021 MiB