Package: xmapbridge Version: 1.67.0 Command: /Library/Frameworks/R.framework/Resources/bin/R CMD INSTALL xmapbridge StartedAt: 2025-10-19 15:06:11 -0400 (Sun, 19 Oct 2025) EndedAt: 2025-10-19 15:06:51 -0400 (Sun, 19 Oct 2025) EllapsedTime: 39.8 seconds RetCode: 0 Status: OK