Package: xmapbridge Version: 1.67.0 Command: rm -rf xmapbridge.buildbin-libdir && mkdir xmapbridge.buildbin-libdir && /Users/biocbuild/BBS/utils/build-universal.sh xmapbridge_1.67.0.tar.gz /Library/Frameworks/R.framework/Resources/bin/R xmapbridge.buildbin-libdir StartedAt: 2025-10-20 03:40:39 -0400 (Mon, 20 Oct 2025) EndedAt: 2025-10-20 03:40:46 -0400 (Mon, 20 Oct 2025) EllapsedTime: 7.0 seconds RetCode: 0 Status: OK PackageFile: xmapbridge_1.67.0.tgz PackageFileSize: 1.762 MiB