Package: xcms Version: 4.8.0 Command: /Library/Frameworks/R.framework/Resources/bin/R CMD INSTALL xcms StartedAt: 2025-10-31 15:47:24 -0400 (Fri, 31 Oct 2025) EndedAt: 2025-10-31 15:49:41 -0400 (Fri, 31 Oct 2025) EllapsedTime: 137.0 seconds RetCode: 0 Status: OK