Package: xcms Version: 4.8.0 Command: rm -rf xcms.buildbin-libdir && mkdir xcms.buildbin-libdir && /Users/biocbuild/BBS/utils/build-universal.sh xcms_4.8.0.tar.gz /Library/Frameworks/R.framework/Resources/bin/R xcms.buildbin-libdir StartedAt: 2025-11-01 02:04:32 -0400 (Sat, 01 Nov 2025) EndedAt: 2025-11-01 02:06:08 -0400 (Sat, 01 Nov 2025) EllapsedTime: 95.8 seconds RetCode: 0 Status: OK PackageFile: xcms_4.8.0.tgz PackageFileSize: 11.83 MiB