Package: xcms Version: 4.8.0 Command: /Library/Frameworks/R.framework/Resources/bin/R CMD INSTALL xcms StartedAt: 2025-11-02 15:23:36 -0500 (Sun, 02 Nov 2025) EndedAt: 2025-11-02 15:24:14 -0500 (Sun, 02 Nov 2025) EllapsedTime: 37.5 seconds RetCode: 0 Status: OK