Package: xcms Version: 4.8.0 Command: /Library/Frameworks/R.framework/Resources/bin/R CMD build --keep-empty-dirs --no-resave-data xcms StartedAt: 2025-11-02 18:07:54 -0500 (Sun, 02 Nov 2025) EndedAt: 2025-11-02 18:09:46 -0500 (Sun, 02 Nov 2025) EllapsedTime: 112.2 seconds RetCode: 0 Status: OK PackageFile: xcms_4.8.0.tar.gz PackageFileSize: 8.911 MiB