Package: xCell2 Version: 1.2.0 Command: /Library/Frameworks/R.framework/Resources/bin/R CMD check --install=check:xCell2.install-out.txt --library=/Library/Frameworks/R.framework/Resources/library --no-vignettes --timings xCell2_1.2.0.tar.gz StartedAt: 2025-11-04 01:07:44 -0500 (Tue, 04 Nov 2025) EndedAt: 2025-11-04 01:14:47 -0500 (Tue, 04 Nov 2025) EllapsedTime: 422.8 seconds RetCode: 0 Status: OK CheckDir: xCell2.Rcheck Warnings: 0